BEGIN:VCALENDAR
VERSION:2.0
PRODID:-//eventon.com NONSGML v1.0//EN
CALSCALE:GREGORIAN
METHOD:PUBLISH
BEGIN:VEVENT
UID:69e92c6171b23
DTSTAMP:20260422T201529Z
DTSTART:20260522T130000Z
DTEND:20260522T215900Z
LOCATION:Musikene
SUMMARY:GANBERA MUSIKA ENTZUNALDIA
DESCRIPTION:Benedicte Palko irakaslearen masterreko ikaslegoa\nhttps://musi
 kene.eus/events/audicion-musica-de-camara-65/?lang=eu
URL:https://musikene.eus/events/audicion-musica-de-camara-65/?lang=eu
END:VEVENT
END:VCALENDAR