BEGIN:VCALENDAR
VERSION:2.0
PRODID:-//eventon.com NONSGML v1.0//EN
CALSCALE:GREGORIAN
METHOD:PUBLISH
BEGIN:VEVENT
UID:69e910011bdfa
DTSTAMP:20260422T181425Z
DTSTART:20260522T130000Z
DTEND:20260522T215900Z
LOCATION:Musikene
SUMMARY:AUDICIÓN MÚSICA DE CÁMARA
DESCRIPTION:Alumnado de máster de la profesora Benedicte Palko\nhttps://mu
 sikene.eus/events/audicion-musica-de-camara-65/
URL:https://musikene.eus/events/audicion-musica-de-camara-65/
END:VEVENT
END:VCALENDAR