BEGIN:VCALENDAR
VERSION:2.0
PRODID:-//eventon.com NONSGML v1.0//EN
CALSCALE:GREGORIAN
METHOD:PUBLISH
BEGIN:VEVENT
UID:69e7b064a8ec4
DTSTAMP:20260421T171412Z
DTSTART:20260428T170000Z
DTEND:20260428T215900Z
LOCATION:Musikene
SUMMARY:JORGE ROSSY CONCIERTO
DESCRIPTION:JORGE ROSSY\,  bateria Entrada libre y gratuita hasta completar
  aforo\nhttps://musikene.eus/events/jorge-rossy-concierto/?lang=en
URL:https://musikene.eus/events/jorge-rossy-concierto/?lang=en
END:VEVENT
END:VCALENDAR