BEGIN:VCALENDAR
VERSION:2.0
PRODID:-//eventon.com NONSGML v1.0//EN
CALSCALE:GREGORIAN
METHOD:PUBLISH
BEGIN:VEVENT
UID:69e7abba171e1
DTSTAMP:20260421T165418Z
DTSTART:20260428T170000Z
DTEND:20260428T215900Z
LOCATION:Musikene
SUMMARY:JORGE ROSSY KONTZERTUA
DESCRIPTION:JORGE ROSSY\,  bateria Sarrera librea eta doakoa lekua bete art
 e\nhttps://musikene.eus/events/jorge-rossy-kontzertua/?lang=eu
URL:https://musikene.eus/events/jorge-rossy-kontzertua/?lang=eu
END:VEVENT
END:VCALENDAR