BEGIN:VCALENDAR
VERSION:2.0
PRODID:-//eventon.com NONSGML v1.0//EN
CALSCALE:GREGORIAN
METHOD:PUBLISH
BEGIN:VEVENT
UID:69e7789f7ff1a
DTSTAMP:20260421T131615Z
DTSTART:20260427T080000Z
DTEND:20260429T120000Z
LOCATION:Musikene
SUMMARY:WORKSHOP JORGE ROSSY
DESCRIPTION:JORGE ROSSY\,  profesor invitado Del 27 al 29 de abril en Musik
 ene Dirigido al alumnado de JAZZ y comunidad alumni de Musikene &nbsp;\nhtt
 ps://musikene.eus/events/workshop-jorge-rossy-2/
URL:https://musikene.eus/events/workshop-jorge-rossy-2/
END:VEVENT
END:VCALENDAR