BEGIN:VCALENDAR
VERSION:2.0
PRODID:-//eventon.com NONSGML v1.0//EN
CALSCALE:GREGORIAN
METHOD:PUBLISH
BEGIN:VEVENT
UID:69e76f9bea41a
DTSTAMP:20260421T123747Z
DTSTART:20260528T100000Z
DTEND:20260528T215900Z
LOCATION:Musikene
SUMMARY:TUBA ENTZUNALDIA
DESCRIPTION:Luis Gimeno eta Eva Pereda irakasleen ikaslegoa\nhttps://musike
 ne.eus/events/audicion-tuba-9/?lang=eu
URL:https://musikene.eus/events/audicion-tuba-9/?lang=eu
END:VEVENT
END:VCALENDAR