BEGIN:VCALENDAR
VERSION:2.0
PRODID:-//eventon.com NONSGML v1.0//EN
CALSCALE:GREGORIAN
METHOD:PUBLISH
BEGIN:VEVENT
UID:69e76fe6834a8
DTSTAMP:20260421T123902Z
DTSTART:20260528T100000Z
DTEND:20260528T215900Z
LOCATION:Musikene
SUMMARY:AUDICIÓN TUBA
DESCRIPTION:Alumnado del profesorado Luis Gimeno y Eva Pereda\nhttps://musi
 kene.eus/events/audicion-tuba-9/?lang=fr
URL:https://musikene.eus/events/audicion-tuba-9/?lang=fr
END:VEVENT
END:VCALENDAR