BEGIN:VCALENDAR
VERSION:2.0
PRODID:-//eventon.com NONSGML v1.0//EN
CALSCALE:GREGORIAN
METHOD:PUBLISH
BEGIN:VEVENT
UID:69e6449692b57
DTSTAMP:20260420T152158Z
DTSTART:20260423
DTEND:20260424
LOCATION:Musikene
SUMMARY:Ahots-akonpainamendua MASTERCLASSA
DESCRIPTION:&nbsp; Osteguna\,  Apirilak 24  10:00-13:00/14:30-17:30 Ostira
 la\,  Apirilak 25 10:00-13:00/14:30-17:30 Larunbate\, Apirilak 26  11:00-1
 2:00 Alemaniar Liedari buruzko Hitzaldia &nbsp; &nbsp; &nbsp;\nhttps://musi
 kene.eus/events/masterclass-acompanamiento-vocal-copy/?lang=eu
URL:https://musikene.eus/events/masterclass-acompanamiento-vocal-copy/?lang=eu
END:VEVENT
END:VCALENDAR