BEGIN:VCALENDAR
VERSION:2.0
PRODID:-//eventon.com NONSGML v1.0//EN
CALSCALE:GREGORIAN
METHOD:PUBLISH
BEGIN:VEVENT
UID:69e61d2fa5d44
DTSTAMP:20260420T123351Z
DTSTART:20260423
DTEND:20260424
LOCATION:Musikene
SUMMARY:MASTERCLASS ACOMPAÑAMIENTO VOCAL
DESCRIPTION:&nbsp; Jueves\,  24 de abril 10:00-13:00/14:30-17:30 Viernes\, 
  25 de abril 10:00-13:00/14:30-17:30 Sábado\,  26 de abril 11:00-12:00 Col
 oquio sobre Lied Alemán &nbsp; &nbsp; &nbsp;\nhttps://musikene.eus/events/
 masterclass-acompanamiento-vocal-copy/
URL:https://musikene.eus/events/masterclass-acompanamiento-vocal-copy/
END:VEVENT
END:VCALENDAR