BEGIN:VCALENDAR
VERSION:2.0
PRODID:-//eventon.com NONSGML v1.0//EN
CALSCALE:GREGORIAN
METHOD:PUBLISH
BEGIN:VEVENT
UID:69e623b8343b6
DTSTAMP:20260420T130144Z
DTSTART:20260529T160000Z
DTEND:20260529T215900Z
LOCATION:Musikene
SUMMARY:GANBERA MUSIKA ENTZUNALDIA
DESCRIPTION:Gabriel Loidi irakaslearen ikaslegoa\nhttps://musikene.eus/even
 ts/audicion-musica-de-camara-64/?lang=eu
URL:https://musikene.eus/events/audicion-musica-de-camara-64/?lang=eu
END:VEVENT
END:VCALENDAR