BEGIN:VCALENDAR
VERSION:2.0
PRODID:-//eventon.com NONSGML v1.0//EN
CALSCALE:GREGORIAN
METHOD:PUBLISH
BEGIN:VEVENT
UID:69e623be975d6
DTSTAMP:20260420T130150Z
DTSTART:20260529T160000Z
DTEND:20260529T215900Z
LOCATION:Musikene
SUMMARY:AUDICIÓN MÚSICA DE CÁMARA
DESCRIPTION:Alumnado del profesor Gabriel Loidi\nhttps://musikene.eus/event
 s/audicion-musica-de-camara-64/?lang=en
URL:https://musikene.eus/events/audicion-musica-de-camara-64/?lang=en
END:VEVENT
END:VCALENDAR