BEGIN:VCALENDAR
VERSION:2.0
PRODID:-//eventon.com NONSGML v1.0//EN
CALSCALE:GREGORIAN
METHOD:PUBLISH
BEGIN:VEVENT
UID:69e8c227b8caa
DTSTAMP:20260422T124215Z
DTSTART:20260515T153000Z
DTEND:20260515T215900Z
LOCATION:Musikene
SUMMARY:GANBERA MUSIKA ENTZUNALDIA
DESCRIPTION:Gabriel Loidi irakaslearen ikaslegoa\nhttps://musikene.eus/even
 ts/audicion-musica-de-camara-63/?lang=eu
URL:https://musikene.eus/events/audicion-musica-de-camara-63/?lang=eu
END:VEVENT
END:VCALENDAR