BEGIN:VCALENDAR
VERSION:2.0
PRODID:-//eventon.com NONSGML v1.0//EN
CALSCALE:GREGORIAN
METHOD:PUBLISH
BEGIN:VEVENT
UID:69e8a59921354
DTSTAMP:20260422T104025Z
DTSTART:20260515T153000Z
DTEND:20260515T215900Z
LOCATION:Musikene
SUMMARY:AUDICIÓN MÚSICA DE CÁMARA
DESCRIPTION:Alumnado del profesor Gabriel Loidi\nhttps://musikene.eus/event
 s/audicion-musica-de-camara-63/
URL:https://musikene.eus/events/audicion-musica-de-camara-63/
END:VEVENT
END:VCALENDAR