BEGIN:VCALENDAR
VERSION:2.0
PRODID:-//eventon.com NONSGML v1.0//EN
CALSCALE:GREGORIAN
METHOD:PUBLISH
BEGIN:VEVENT
UID:69e62a6aaac66
DTSTAMP:20260420T133018Z
DTSTART:20260514T180000Z
DTEND:20260514T215900Z
LOCATION:Musikene
SUMMARY:GANBERA MUSIKA ENTZUNALDIA
DESCRIPTION:Gabriel Loidi irakaslearen ikaslegoa\nhttps://musikene.eus/even
 ts/audicion-musica-de-camara-62/?lang=eu
URL:https://musikene.eus/events/audicion-musica-de-camara-62/?lang=eu
END:VEVENT
END:VCALENDAR