BEGIN:VCALENDAR
VERSION:2.0
PRODID:-//eventon.com NONSGML v1.0//EN
CALSCALE:GREGORIAN
METHOD:PUBLISH
BEGIN:VEVENT
UID:69e624219458c
DTSTAMP:20260420T130329Z
DTSTART:20260514T180000Z
DTEND:20260514T215900Z
LOCATION:Musikene
SUMMARY:AUDICIÓN MÚSICA DE CÁMARA
DESCRIPTION:Alumnado del profesor Gabriel Loidi\nhttps://musikene.eus/event
 s/audicion-musica-de-camara-62/?lang=fr
URL:https://musikene.eus/events/audicion-musica-de-camara-62/?lang=fr
END:VEVENT
END:VCALENDAR