BEGIN:VCALENDAR
VERSION:2.0
PRODID:-//eventon.com NONSGML v1.0//EN
CALSCALE:GREGORIAN
METHOD:PUBLISH
BEGIN:VEVENT
UID:69e774249ddf5
DTSTAMP:20260421T125708Z
DTSTART:20260528T170000Z
DTEND:20260528T215900Z
LOCATION:Musikene
SUMMARY:AHOTS AKONPAINAMENDUA (PIANOA)\,  PIANO OSAGARRIA\,  KORREPETIZIOA ETA AHOTS ETA ESTILO ERREPERTORIOA ENTZUNALDIA
DESCRIPTION:Maciej Pikulski irakaslearen ikaslegoa\nhttps://musikene.eus/ev
 ents/audicion-acompanamiento-vocal-piano-piano-complementario-correpeticion
 -y-repertorio-vocal-y-estilistico/?lang=eu
URL:https://musikene.eus/events/audicion-acompanamiento-vocal-piano-piano-complementario-correpeticion-y-repertorio-vocal-y-estilistico/?lang=eu
END:VEVENT
END:VCALENDAR