BEGIN:VCALENDAR
VERSION:2.0
PRODID:-//eventon.com NONSGML v1.0//EN
CALSCALE:GREGORIAN
METHOD:PUBLISH
BEGIN:VEVENT
UID:69e7742a176a8
DTSTAMP:20260421T125714Z
DTSTART:20260528T170000Z
DTEND:20260528T215900Z
LOCATION:Musikene
SUMMARY:AUDICIÓN ACOMPAÑAMIENTO VOCAL (PIANO)\,  PIANO COMPLEMENTARIO\,  CORREPETICIÓN Y REPERTORIO VOCAL Y ESTILÍSTICO
DESCRIPTION:Alumnado del profesor Maciej Pikulski\nhttps://musikene.eus/eve
 nts/audicion-acompanamiento-vocal-piano-piano-complementario-correpeticion-
 y-repertorio-vocal-y-estilistico/?lang=en
URL:https://musikene.eus/events/audicion-acompanamiento-vocal-piano-piano-complementario-correpeticion-y-repertorio-vocal-y-estilistico/?lang=en
END:VEVENT
END:VCALENDAR