BEGIN:VCALENDAR
VERSION:2.0
PRODID:-//eventon.com NONSGML v1.0//EN
CALSCALE:GREGORIAN
METHOD:PUBLISH
BEGIN:VEVENT
UID:69e7dbbd1aca0
DTSTAMP:20260421T201909Z
DTSTART:20260416T080000Z
DTEND:20260416T215900Z
LOCATION:Musikene
SUMMARY:AUDICIÓN TÉCNICA ALEXANDER
DESCRIPTION:Alumnado de la profesora Ane Landa\nhttps://musikene.eus/events
 /audicion-tecnica-alexander-2/
URL:https://musikene.eus/events/audicion-tecnica-alexander-2/
END:VEVENT
END:VCALENDAR