BEGIN:VCALENDAR
VERSION:2.0
PRODID:-//eventon.com NONSGML v1.0//EN
CALSCALE:GREGORIAN
METHOD:PUBLISH
BEGIN:VEVENT
UID:69e7fbb09eb92
DTSTAMP:20260421T223528Z
DTSTART:20260423T160000Z
DTEND:20260423T215900Z
LOCATION:Musikene
SUMMARY:AUDICIÓN FLAUTA
DESCRIPTION:Alumnado de los profesores Bruno Claverie eta Pedro José Larra
 ñaga\nhttps://musikene.eus/events/flauta-entzunaldia-5/
URL:https://musikene.eus/events/flauta-entzunaldia-5/
END:VEVENT
END:VCALENDAR