BEGIN:VCALENDAR
VERSION:2.0
PRODID:-//eventon.com NONSGML v1.0//EN
CALSCALE:GREGORIAN
METHOD:PUBLISH
BEGIN:VEVENT
UID:69e76f9c04c26
DTSTAMP:20260421T123748Z
DTSTART:20260519T130000Z
DTEND:20260519T215900Z
LOCATION:Musikene
SUMMARY:AUDICIÓN QUINTETO DE VIENTO
DESCRIPTION:Alumnado del profesor Sergio Barranco\nhttps://musikene.eus/eve
 nts/audicion-quinteto-de-viento-30/
URL:https://musikene.eus/events/audicion-quinteto-de-viento-30/
END:VEVENT
END:VCALENDAR