BEGIN:VCALENDAR
VERSION:2.0
PRODID:-//eventon.com NONSGML v1.0//EN
CALSCALE:GREGORIAN
METHOD:PUBLISH
BEGIN:VEVENT
UID:69e861954194e
DTSTAMP:20260422T055013Z
DTSTART:20260528T170000Z
DTEND:20260528T215900Z
LOCATION:DONOSTIA. Orfeón Donostiarra
SUMMARY:CONCIERTO TRIO ALMA
DESCRIPTION:TRIO ALMA Malena Lou García\,  piano María Isabel Orrego\,  f
 lauta Alix Sophie Allard\,  soprano &nbsp; En colaboración con Donostia Mu
 sika y el Orfeón Donostiarra.\nhttps://musikene.eus/events/concierto-trio-
 alma/?lang=en
URL:https://musikene.eus/events/concierto-trio-alma/?lang=en
END:VEVENT
END:VCALENDAR