BEGIN:VCALENDAR
VERSION:2.0
PRODID:-//eventon.com NONSGML v1.0//EN
CALSCALE:GREGORIAN
METHOD:PUBLISH
BEGIN:VEVENT
UID:69e86254b55a2
DTSTAMP:20260422T055324Z
DTSTART:20260507T170000Z
DTEND:20260507T215900Z
LOCATION:DONOSTIA. Orfeón Donostiarra
SUMMARY:CONCIERTO TRIO CLAVAIRCO
DESCRIPTION:TRIO CLAVAIRCO Hosmel-Laurent González\,  piano LuÍs Henrique
  Rodrigues Nogueira\,  violonchelo Gonzalo Paulo Fernández\,  Flauta &nbsp
 ; En colaboración con Donostia Musika y Orfeón Donostiarra\nhttps://musik
 ene.eus/events/concierto-trio-clavairco/?lang=en
URL:https://musikene.eus/events/concierto-trio-clavairco/?lang=en
END:VEVENT
END:VCALENDAR