BEGIN:VCALENDAR
VERSION:2.0
PRODID:-//eventon.com NONSGML v1.0//EN
CALSCALE:GREGORIAN
METHOD:PUBLISH
BEGIN:VEVENT
UID:69e4dbe58c6f0
DTSTAMP:20260419T134301Z
DTSTART:20260330T090000Z
DTEND:20260330T215900Z
LOCATION:Musikene
SUMMARY:AUDICIÓN VIOLONCELLO
DESCRIPTION:Alumnado de los profesores Pavel Gomzyakov y Amaia Zipitria\nht
 tps://musikene.eus/events/audicion-violoncello-28/
URL:https://musikene.eus/events/audicion-violoncello-28/
END:VEVENT
END:VCALENDAR