BEGIN:VCALENDAR
VERSION:2.0
PRODID:-//eventon.com NONSGML v1.0//EN
CALSCALE:GREGORIAN
METHOD:PUBLISH
BEGIN:VEVENT
UID:69ed7c562393e
DTSTAMP:20260426T024542Z
DTSTART:20270108T090000Z
DTEND:20270108T120000Z
LOCATION:Musikene
SUMMARY:MASTERCLASS PIANO
DESCRIPTION:Irakaslea: Jean-François Heisser\nhttps://musikene.eus/events/
 masterclass-piano-7/?lang=eu
URL:https://musikene.eus/events/masterclass-piano-7/?lang=eu
END:VEVENT
END:VCALENDAR