BEGIN:VCALENDAR
VERSION:2.0
PRODID:-//eventon.com NONSGML v1.0//EN
CALSCALE:GREGORIAN
METHOD:PUBLISH
BEGIN:VEVENT
UID:69e862539b491
DTSTAMP:20260422T055323Z
DTSTART:20260524T100000Z
DTEND:20260524T215900Z
LOCATION:TOLOSA. Topic Tolosa
SUMMARY:CONCIERTO BIPaDa DÚO - Percusión
DESCRIPTION:MAIATZAKO DOINUAK Pablo Sanz Rubio\,  percusión Daniel Hernán
 dez Robledo\,  percusión\nhttps://musikene.eus/events/concierto-bipada-duo
 -percusion/?lang=en
URL:https://musikene.eus/events/concierto-bipada-duo-percusion/?lang=en
END:VEVENT
END:VCALENDAR