BEGIN:VCALENDAR
VERSION:2.0
PRODID:-//eventon.com NONSGML v1.0//EN
CALSCALE:GREGORIAN
METHOD:PUBLISH
BEGIN:VEVENT
UID:69ed33136b5a5
DTSTAMP:20260425T213307Z
DTSTART:20260427T160000Z
DTEND:20260427T215900Z
LOCATION:Musikene
SUMMARY:ACTUALIZADO!! AUDICIÓN FLAUTA
DESCRIPTION:Alumnado de los profesores Miguel Ángel Angulo\,  Álvaro Octa
 vio y Pedro Rodríguez Larrañaga\nhttps://musikene.eus/events/audicion-fla
 uta-58/
URL:https://musikene.eus/events/audicion-flauta-58/
END:VEVENT
END:VCALENDAR