BEGIN:VCALENDAR
VERSION:2.0
PRODID:-//eventon.com NONSGML v1.0//EN
CALSCALE:GREGORIAN
METHOD:PUBLISH
BEGIN:VEVENT
UID:69e756bf33de3
DTSTAMP:20260421T105143Z
DTSTART:20260430T110000Z
DTEND:20260430T235900Z
LOCATION:Musikene
SUMMARY:BIOLINA ENTZUNALDIA
DESCRIPTION:Aitzol Iturriagagoitia eta Eirini Gaitani irakasleen ikaslegoa\
 nhttps://musikene.eus/events/audicion-violin-107/?lang=eu
URL:https://musikene.eus/events/audicion-violin-107/?lang=eu
END:VEVENT
END:VCALENDAR