BEGIN:VCALENDAR
VERSION:2.0
PRODID:-//eventon.com NONSGML v1.0//EN
CALSCALE:GREGORIAN
METHOD:PUBLISH
BEGIN:VEVENT
UID:69e73e99f315b
DTSTAMP:20260421T090841Z
DTSTART:20260430T090000Z
DTEND:20260430T215900Z
LOCATION:Musikene
SUMMARY:AUDICIÓN VIOLÍN
DESCRIPTION:Alumnado de los profesores Aitzol Iturriagagoitia y Eirini Gait
 ani\nhttps://musikene.eus/events/audicion-violin-107/?lang=fr
URL:https://musikene.eus/events/audicion-violin-107/?lang=fr
END:VEVENT
END:VCALENDAR