BEGIN:VCALENDAR
VERSION:2.0
PRODID:-//eventon.com NONSGML v1.0//EN
CALSCALE:GREGORIAN
METHOD:PUBLISH
BEGIN:VEVENT
UID:69e73e9a15893
DTSTAMP:20260421T090842Z
DTSTART:20260313T173000Z
DTEND:20260313T225000Z
LOCATION:Musikene
SUMMARY:HARPA ENTZUNALDIA
DESCRIPTION:Christine Icart irakaslearen ikaslegoa\nhttps://musikene.eus/ev
 ents/harpa-entzunaldia-7/?lang=eu
URL:https://musikene.eus/events/harpa-entzunaldia-7/?lang=eu
END:VEVENT
END:VCALENDAR