BEGIN:VCALENDAR
VERSION:2.0
PRODID:-//eventon.com NONSGML v1.0//EN
CALSCALE:GREGORIAN
METHOD:PUBLISH
BEGIN:VEVENT
UID:69e862f1c7755
DTSTAMP:20260422T055601Z
DTSTART:20260422
DTEND:20260423
LOCATION:Musikene
SUMMARY:MASTERCLASS OBOE
DESCRIPTION:Musikinstitutt Miércoles\,  22 de abril Jueves\,  23 de abril 
 &nbsp; &nbsp;\nhttps://musikene.eus/events/masterclass-oboe-9/?lang=en
URL:https://musikene.eus/events/masterclass-oboe-9/?lang=en
END:VEVENT
END:VCALENDAR