BEGIN:VCALENDAR
VERSION:2.0
PRODID:-//eventon.com NONSGML v1.0//EN
CALSCALE:GREGORIAN
METHOD:PUBLISH
BEGIN:VEVENT
UID:69e5539f44055
DTSTAMP:20260419T221351Z
DTSTART:20260519T090000Z
DTEND:20260519T215000Z
LOCATION:Musikene
SUMMARY:AUDICIÓN QUINTETO DE VIENTO
DESCRIPTION:Alumnado del profesor Sergio Barranco\nhttps://musikene.eus/eve
 nts/audicion-quinteto-de-viento-27/
URL:https://musikene.eus/events/audicion-quinteto-de-viento-27/
END:VEVENT
END:VCALENDAR