BEGIN:VCALENDAR
VERSION:2.0
PRODID:-//eventon.com NONSGML v1.0//EN
CALSCALE:GREGORIAN
METHOD:PUBLISH
BEGIN:VEVENT
UID:69e73be24d75e
DTSTAMP:20260421T085706Z
DTSTART:20251114T083000Z
DTEND:20251115T123000Z
LOCATION:Musikene
SUMMARY:MASTERCLASS GUITARRA
DESCRIPTION:Lukasz Kuropacezwski\, profesor invitado Dirigido al alumnado d
 e guitarra de Musikene\nhttps://musikene.eus/events/masterclass-guitarra-9/
URL:https://musikene.eus/events/masterclass-guitarra-9/
END:VEVENT
END:VCALENDAR