BEGIN:VCALENDAR
VERSION:2.0
PRODID:-//eventon.com NONSGML v1.0//EN
CALSCALE:GREGORIAN
METHOD:PUBLISH
BEGIN:VEVENT
UID:69e56eda54c25
DTSTAMP:20260420T001002Z
DTSTART:20260525T100000Z
DTEND:20260525T215000Z
LOCATION:Musikene
SUMMARY:BIOLONTXELO ENTZUNALDIA
DESCRIPTION:Damián Martínez\,  Margarita Kozlovska eta Stefanos Nasos ira
 kasleen ikaslegoa\nhttps://musikene.eus/events/audicion-violoncello-25/?lan
 g=eu
URL:https://musikene.eus/events/audicion-violoncello-25/?lang=eu
END:VEVENT
END:VCALENDAR