BEGIN:VCALENDAR
VERSION:2.0
PRODID:-//eventon.com NONSGML v1.0//EN
CALSCALE:GREGORIAN
METHOD:PUBLISH
BEGIN:VEVENT
UID:69e56ee109eef
DTSTAMP:20260420T001009Z
DTSTART:20260525T100000Z
DTEND:20260525T215000Z
LOCATION:Musikene
SUMMARY:AUDICIÓN VIOLONCELLO
DESCRIPTION:Alumnado de los profesores Damián Martínez\,  Margarita Kozlo
 vska y Stefanos Nasos\nhttps://musikene.eus/events/audicion-violoncello-25/
 ?lang=en
URL:https://musikene.eus/events/audicion-violoncello-25/?lang=en
END:VEVENT
END:VCALENDAR