BEGIN:VCALENDAR
VERSION:2.0
PRODID:-//eventon.com NONSGML v1.0//EN
CALSCALE:GREGORIAN
METHOD:PUBLISH
BEGIN:VEVENT
UID:69e56e1235b32
DTSTAMP:20260420T000642Z
DTSTART:20260511T090000Z
DTEND:20260511T215000Z
LOCATION:Musikene
SUMMARY:AUDICIÓN CONTRABAJO
DESCRIPTION:Alumnado de los profesores Pierre De Maistre y Margarita Kozlov
 ska\nhttps://musikene.eus/events/audicion-contrabajo-36/?lang=fr
URL:https://musikene.eus/events/audicion-contrabajo-36/?lang=fr
END:VEVENT
END:VCALENDAR