BEGIN:VCALENDAR
VERSION:2.0
PRODID:-//eventon.com NONSGML v1.0//EN
CALSCALE:GREGORIAN
METHOD:PUBLISH
BEGIN:VEVENT
UID:69e55417d6aa8
DTSTAMP:20260419T221551Z
DTSTART:20260520T130000Z
DTEND:20260520T215000Z
LOCATION:Musikene
SUMMARY:AUDICIÓN MÚSICA DE CÁMARA
DESCRIPTION:Alumnado de la profesora Benedicte Palko\nhttps://musikene.eus/
 events/audicion-musica-de-camara-59/
URL:https://musikene.eus/events/audicion-musica-de-camara-59/
END:VEVENT
END:VCALENDAR