BEGIN:VCALENDAR
VERSION:2.0
PRODID:-//eventon.com NONSGML v1.0//EN
CALSCALE:GREGORIAN
METHOD:PUBLISH
BEGIN:VEVENT
UID:69e56e69693b5
DTSTAMP:20260420T000809Z
DTSTART:20260526T140000Z
DTEND:20260526T215000Z
LOCATION:Musikene
SUMMARY:TRONPA ENTZUNALDIA
DESCRIPTION:Rodolfo Epelde eta Clara Casado irakasleen ikaslegoa\nhttps://m
 usikene.eus/events/audicion-trompa-19/?lang=eu
URL:https://musikene.eus/events/audicion-trompa-19/?lang=eu
END:VEVENT
END:VCALENDAR