BEGIN:VCALENDAR
VERSION:2.0
PRODID:-//eventon.com NONSGML v1.0//EN
CALSCALE:GREGORIAN
METHOD:PUBLISH
BEGIN:VEVENT
UID:69e56f29496a5
DTSTAMP:20260420T001121Z
DTSTART:20260526T140000Z
DTEND:20260526T215000Z
LOCATION:Musikene
SUMMARY:AUDICIÓN TROMPA
DESCRIPTION:Alumnado de los profesores Rodolfo Epelde y Clara Casado\nhttps
 ://musikene.eus/events/audicion-trompa-19/?lang=en
URL:https://musikene.eus/events/audicion-trompa-19/?lang=en
END:VEVENT
END:VCALENDAR