BEGIN:VCALENDAR
VERSION:2.0
PRODID:-//eventon.com NONSGML v1.0//EN
CALSCALE:GREGORIAN
METHOD:PUBLISH
BEGIN:VEVENT
UID:69e56d1599fc5
DTSTAMP:20260420T000229Z
DTSTART:20260518T113000Z
DTEND:20260518T215000Z
LOCATION:Musikene
SUMMARY:TXISTU ENTZUNALDIA
DESCRIPTION:Aitor Amilibia irakaslearen ikaslegoa\nhttps://musikene.eus/eve
 nts/audicion-txistu-22/?lang=eu
URL:https://musikene.eus/events/audicion-txistu-22/?lang=eu
END:VEVENT
END:VCALENDAR