BEGIN:VCALENDAR
VERSION:2.0
PRODID:-//eventon.com NONSGML v1.0//EN
CALSCALE:GREGORIAN
METHOD:PUBLISH
BEGIN:VEVENT
UID:69e55423bc74e
DTSTAMP:20260419T221603Z
DTSTART:20260518T113000Z
DTEND:20260518T215000Z
LOCATION:Musikene
SUMMARY:AUDICIÓN TXISTU
DESCRIPTION:Alumnado del profesor Aitor Amilibia\nhttps://musikene.eus/even
 ts/audicion-txistu-22/
URL:https://musikene.eus/events/audicion-txistu-22/
END:VEVENT
END:VCALENDAR