BEGIN:VCALENDAR
VERSION:2.0
PRODID:-//eventon.com NONSGML v1.0//EN
CALSCALE:GREGORIAN
METHOD:PUBLISH
BEGIN:VEVENT
UID:69e73db12d0d6
DTSTAMP:20260421T090449Z
DTSTART:20250724T180000Z
DTEND:20250724T215000Z
LOCATION:
SUMMARY:DEEJAY FOSTER & ROGER MAS DUO KONTZERTUA & Jam Session
DESCRIPTION:DEEJAY FOSTER &amp; ROGER MAS DUO KONTZERTUA &amp; Jam Session 
 &nbsp; MUSIKENE SUMMER JAZZ MEETING POINT 2025 PROGRAMA osoa hemen  Sarrer
 a librea eta doakoa lekua bete arte &nbsp;\nhttps://musikene.eus/events/dee
 jay-foster-roger-mas-duo-kontzertua-jam-session/?lang=eu
URL:https://musikene.eus/events/deejay-foster-roger-mas-duo-kontzertua-jam-session/?lang=eu
END:VEVENT
END:VCALENDAR