BEGIN:VCALENDAR
VERSION:2.0
PRODID:-//eventon.com NONSGML v1.0//EN
CALSCALE:GREGORIAN
METHOD:PUBLISH
BEGIN:VEVENT
UID:69e6dfa42491a
DTSTAMP:20260421T022332Z
DTSTART:20250410
DTEND:20250411
LOCATION:Musikene
SUMMARY:MASTERCLASS KONPOSIZIOA
DESCRIPTION:&nbsp; Osteguna\,  Apirilaren 10a 10:00-13:00 /15:00-17:00 /17:
 30-19:30 Ostirala\,  Apirilaren 11  10:00-13:00 /15:00-17:00 &nbsp; &nbsp;
  &nbsp; &nbsp; &nbsp; &nbsp;\nhttps://musikene.eus/events/masterclass-compo
 sicion-7/?lang=eu
URL:https://musikene.eus/events/masterclass-composicion-7/?lang=eu
END:VEVENT
END:VCALENDAR