BEGIN:VCALENDAR
VERSION:2.0
PRODID:-//eventon.com NONSGML v1.0//EN
CALSCALE:GREGORIAN
METHOD:PUBLISH
BEGIN:VEVENT
UID:69e6de77cf1e4
DTSTAMP:20260421T021831Z
DTSTART:20250410
DTEND:20250411
LOCATION:Musikene
SUMMARY:MASTERCLASS COMPOSICIÓN
DESCRIPTION:&nbsp; Jueves\,  10 de abril 10:00-13:00 /15:00-17:00 /17:30-19
 :30 Viernes\,  11 de abril 10:00-13:00 /15:00-17:00 &nbsp; &nbsp; &nbsp; &n
 bsp; &nbsp; &nbsp;\nhttps://musikene.eus/events/masterclass-composicion-7/?
 lang=en
URL:https://musikene.eus/events/masterclass-composicion-7/?lang=en
END:VEVENT
END:VCALENDAR