BEGIN:VCALENDAR
VERSION:2.0
PRODID:-//eventon.com NONSGML v1.0//EN
CALSCALE:GREGORIAN
METHOD:PUBLISH
BEGIN:VEVENT
UID:69ea025d19e1b
DTSTAMP:20260423T112829Z
DTSTART:20250507T170000Z
DTEND:20250507T215000Z
LOCATION:Chillida Leku
SUMMARY:CONCIERTO CUARTETO DE SAXOFONES "LIGATIO"
DESCRIPTION:Alumnado de Máster &nbsp; CUARTETO LIGATIO Javier Jesús Pére
 z González\,  saxofón soprano Sonia Martín Rodríguez\,  saxofón alto M
 anuel Alén Bellas\,  saxofón tenor Adrián Saiz Fernández\,  saxofón Ba
 rítono\nhttps://musikene.eus/events/concierto-cuarteto-de-saxofones-ligati
 o-2/
URL:https://musikene.eus/events/concierto-cuarteto-de-saxofones-ligatio-2/
END:VEVENT
END:VCALENDAR