BEGIN:VCALENDAR
VERSION:2.0
PRODID:-//eventon.com NONSGML v1.0//EN
CALSCALE:GREGORIAN
METHOD:PUBLISH
BEGIN:VEVENT
UID:69e581da5018c
DTSTAMP:20260420T013106Z
DTSTART:20250523T173000Z
DTEND:20250523T215000Z
LOCATION:Sociedad Filarmónica de Bilbao
SUMMARY:PRESENTACIÓN LIBRO: GABRIEL ERKOREKA
DESCRIPTION:PRESENTACION LIBRO : GABRIEL ERKOREKA. Colección Kaierak. Ba
 sque composers of the 21st century La colección Kaierak: Basque Composers 
 of the 21st Century\,  editada por Musikene y Eresbil\,  tiene como objetiv
 o la promoción internacional de la música actual vasca. Cada volumen\,  p
 ublicado en formato trilingüe (euskera\,  castellano e inglés)\,  explora
  la personalidad\,  trayectoria[..]\nhttps://musikene.eus/events/presentaci
 on-libro-gabriel-erkoreka/
URL:https://musikene.eus/events/presentacion-libro-gabriel-erkoreka/
END:VEVENT
END:VCALENDAR