BEGIN:VCALENDAR
VERSION:2.0
PRODID:-//eventon.com NONSGML v1.0//EN
CALSCALE:GREGORIAN
METHOD:PUBLISH
BEGIN:VEVENT
UID:69e6fa286c154
DTSTAMP:20260421T041640Z
DTSTART:20250319T180000Z
DTEND:20250319T225000Z
LOCATION:BILBAO. Sociedad Bilbaina
SUMMARY:CONCIERTO TRIO ARLEQUINO
DESCRIPTION:TRIO ARLEQUINO Luna Orts\,  clarinete Cristina Martínez\,  vio
 lín Daniel García\,  piano &nbsp; Organizado por Juventudes Musicales de 
 Bilbao\nhttps://musikene.eus/events/concierto-trio-arlequino/
URL:https://musikene.eus/events/concierto-trio-arlequino/
END:VEVENT
END:VCALENDAR