BEGIN:VCALENDAR
VERSION:2.0
PRODID:-//eventon.com NONSGML v1.0//EN
CALSCALE:GREGORIAN
METHOD:PUBLISH
BEGIN:VEVENT
UID:69e7561baacd0
DTSTAMP:20260421T104859Z
DTSTART:20250503T173000Z
DTEND:20250503T215000Z
LOCATION:USURBIL. San Salvador eliza
SUMMARY:CONCIERTO ÓRGANO
DESCRIPTION:Ciclo ORGANOAK PLAZARA 2025 I Concierto órgano de Erwan Le Pra
 do Usurbil\,  Iglesia de San Salvador Sábado 3 mayo\,  19:30h Entrada libr
 e y gratuita hasta completar aforo &nbsp; En el marco del convenio de colab
 oración firmado con la Diputación Foral de Gipuzkoa\nhttps://musikene.eus
 /events/concierto-organo-21/
URL:https://musikene.eus/events/concierto-organo-21/
END:VEVENT
END:VCALENDAR