BEGIN:VCALENDAR
VERSION:2.0
PRODID:-//eventon.com NONSGML v1.0//EN
CALSCALE:GREGORIAN
METHOD:PUBLISH
BEGIN:VEVENT
UID:69e73eb3bcd40
DTSTAMP:20260421T090907Z
DTSTART:20250403T170000Z
DTEND:20250403T215000Z
LOCATION:DONOSTIA. Orfeon Donostiarra (calle san Juan)
SUMMARY:CONCIERTO CANTO
DESCRIPTION:APIRILA 3 ABRIL – CANTO Ainhoa Izaguirre\,  soprano Senda De 
 La Montaña\,  soprano Pilar Sánchez\,  soprano Julen García\,  barítono
  Hodei Yáñez\,  barítono Joseba Korta\,  piano &nbsp;\nhttps://musikene.
 eus/events/nuevos-talentos-en-la-musica-de-camara-5/?lang=fr
URL:https://musikene.eus/events/nuevos-talentos-en-la-musica-de-camara-5/?lang=fr
END:VEVENT
END:VCALENDAR