BEGIN:VCALENDAR
VERSION:2.0
PRODID:-//eventon.com NONSGML v1.0//EN
CALSCALE:GREGORIAN
METHOD:PUBLISH
BEGIN:VEVENT
UID:69ecef8f22012
DTSTAMP:20260425T164503Z
DTSTART:20250409T073000Z
DTEND:20250409T220000Z
LOCATION:Musikene
SUMMARY:MASTERCLASS TROMPA NATURAL
DESCRIPTION:STEFAN BLONK\,  profesor invitado\nhttps://musikene.eus/events/
 masterclass-trompa-9/
URL:https://musikene.eus/events/masterclass-trompa-9/
END:VEVENT
END:VCALENDAR