BEGIN:VCALENDAR
VERSION:2.0
PRODID:-//eventon.com NONSGML v1.0//EN
CALSCALE:GREGORIAN
METHOD:PUBLISH
BEGIN:VEVENT
UID:69e8d9b2c3543
DTSTAMP:20260422T142242Z
DTSTART:20250129T180000Z
DTEND:20250129T225000Z
LOCATION:BILBAO. Sociedad Bilbaina
SUMMARY:KANTU eta KLARINETE KONTZERTUA
DESCRIPTION:Alix Allard &#8211; Sopranoa Estibaliz Arroyo &#8211; Sopranoa 
 Julen García &#8211; Baritonoa Gabriela Hernández &#8211; Klarinete baxua
  Manuel López &#8211; Corno di bassettoa Ewout Nuyts &#8211; Corno di bass
 ettoa Asier Oroz &#8211; Pianoa\nhttps://musikene.eus/events/concierto-cant
 o-y-clarinete/?lang=eu
URL:https://musikene.eus/events/concierto-canto-y-clarinete/?lang=eu
END:VEVENT
END:VCALENDAR